BEGIN:VCALENDAR
VERSION:2.0
PRODID:-//Bethel Christian Centre - ECPv6.14.2//NONSGML v1.0//EN
CALSCALE:GREGORIAN
METHOD:PUBLISH
X-ORIGINAL-URL:https://bethelchristiancentre.ca
X-WR-CALDESC:Events for Bethel Christian Centre
REFRESH-INTERVAL;VALUE=DURATION:PT1H
X-Robots-Tag:noindex
X-PUBLISHED-TTL:PT1H
BEGIN:VTIMEZONE
TZID:UTC
BEGIN:STANDARD
TZOFFSETFROM:+0000
TZOFFSETTO:+0000
TZNAME:UTC
DTSTART:20250101T000000
END:STANDARD
END:VTIMEZONE
BEGIN:VEVENT
DTSTART;VALUE=DATE:20251003
DTEND;VALUE=DATE:20251004
DTSTAMP:20260421T110906
CREATED:20250930T035702Z
LAST-MODIFIED:20250930T035715Z
UID:2700-1759449600-1759535999@bethelchristiancentre.ca
SUMMARY:Alpha Promotion
DESCRIPTION:
URL:https://bethelchristiancentre.ca/event/alpha-promotion/
CATEGORIES:All Events
ATTACH;FMTTYPE=image/jpeg:https://bethelchristiancentre.ca/wp-content/uploads/2025/09/Alpha_4.5x8.5-poster.jpg
END:VEVENT
BEGIN:VEVENT
DTSTART;TZID=UTC:20250930T080000
DTEND;TZID=UTC:20250930T170000
DTSTAMP:20260421T110906
CREATED:20250930T035508Z
LAST-MODIFIED:20250930T035732Z
UID:2694-1759219200-1759251600@bethelchristiancentre.ca
SUMMARY:The YAYA (YouthAndYoungadult) Rally
DESCRIPTION:
URL:https://bethelchristiancentre.ca/event/the-yaya-youthandyoungadult-rally/
CATEGORIES:All Events
ATTACH;FMTTYPE=image/jpeg:https://bethelchristiancentre.ca/wp-content/uploads/2025/09/A18b.jpg
END:VEVENT
BEGIN:VEVENT
DTSTART;TZID=UTC:20250830T150000
DTEND;TZID=UTC:20250830T200000
DTSTAMP:20260421T110906
CREATED:20250807T160831Z
LAST-MODIFIED:20250930T035742Z
UID:2644-1756566000-1756584000@bethelchristiancentre.ca
SUMMARY:Back to School | Festival of praise
DESCRIPTION:participation  from church groups from all over the GTA
URL:https://bethelchristiancentre.ca/event/back-to-school-festival-of-praise/
CATEGORIES:All Events
ATTACH;FMTTYPE=image/jpeg:https://bethelchristiancentre.ca/wp-content/uploads/2025/08/Aug-30-poster-scaled.jpg
END:VEVENT
BEGIN:VEVENT
DTSTART;VALUE=DATE:20250830
DTEND;VALUE=DATE:20250831
DTSTAMP:20260421T110906
CREATED:20250930T034408Z
LAST-MODIFIED:20250930T035746Z
UID:2670-1756512000-1756598399@bethelchristiancentre.ca
SUMMARY:The Festival of Praise
DESCRIPTION:
URL:https://bethelchristiancentre.ca/event/the-festival-of-praise-aug-30/
CATEGORIES:All Events
ATTACH;FMTTYPE=image/jpeg:https://bethelchristiancentre.ca/wp-content/uploads/2025/09/A4.jpg
END:VEVENT
END:VCALENDAR